BEGIN:VCALENDAR
PRODID:-//Calendar export
VERSION:2.0
X-WR-TIMEZONE:Etc/GMT
BEGIN:VTIMEZONE
TZID:GMT Standard Time
BEGIN:STANDARD
TZOFFSETFROM:+0000
TZOFFSETTO:+0000
END:STANDARD
END:VTIMEZONE
BEGIN:VEVENT
UID:AE1046
DTSTAMP:20260419T180900Z
SUMMARY:Pop-up in the Park - Kites in the Sky
CLASS:PUBLIC
DESCRIPTION:
STATUS:CONFIRMED
PRIORITY:1
DTSTART:20260424T180000Z
DTEND:20260424T200000Z
TRANSP:OPAQUE
END:VEVENT
END:VCALENDAR
