BEGIN:VCALENDAR
PRODID:-//Calendar export
VERSION:2.0
X-WR-TIMEZONE:Etc/GMT
BEGIN:VTIMEZONE
TZID:GMT Standard Time
BEGIN:STANDARD
TZOFFSETFROM:+0000
TZOFFSETTO:+0000
END:STANDARD
END:VTIMEZONE
BEGIN:VEVENT
UID:AE1051
DTSTAMP:20260425T092700Z
SUMMARY:Newcastle Youth Fishing Derby
CLASS:PUBLIC
DESCRIPTION:
STATUS:CONFIRMED
PRIORITY:1
DTSTART:20260613T120000Z
DTEND:20260613T160000Z
TRANSP:OPAQUE
END:VEVENT
END:VCALENDAR
